BEGIN:VCALENDAR
VERSION:2.0
PRODID:-//Alone WPML - ECPv6.15.20//NONSGML v1.0//EN
CALSCALE:GREGORIAN
METHOD:PUBLISH
X-ORIGINAL-URL:https://rtl.alonethemes.com
X-WR-CALDESC:الأحداث في Alone WPML
REFRESH-INTERVAL;VALUE=DURATION:PT1H
X-Robots-Tag:noindex
X-PUBLISHED-TTL:PT1H
BEGIN:VTIMEZONE
TZID:UTC
BEGIN:STANDARD
TZOFFSETFROM:+0000
TZOFFSETTO:+0000
TZNAME:UTC
DTSTART:20250101T000000
END:STANDARD
END:VTIMEZONE
BEGIN:VEVENT
DTSTART;TZID=UTC:20260816T000000
DTEND;TZID=UTC:20260818T235900
DTSTAMP:20260421T082432
CREATED:20200909T040220Z
LAST-MODIFIED:20241112T074552Z
UID:22085-1786838400-1787097540@rtl.alonethemes.com
SUMMARY:الإثارة من اقتباس عن الأعمال الخيرية
DESCRIPTION:ما الفائدة من الخروج؟ سننتهي هنا على أي حال. سأذهب إلى المقعد الخلفي لسيارتي، مع المرأة التي أحبها، ولن أعود لمدة عشر دقائق! والآن، بروح الموسم: ابدأ في التسوق. وفي مقابل كل دولار تشتريه من بضائع كراستي، سأكون لطيفًا مع طفل مريض. لأغراض قانونية، قد يشمل الأطفال المرضى العاهرات المصابات بنزلة برد. ملك الإنترنت؟ أتساءل عما إذا كان بإمكانه توفير عُري أسرع… نعم! أنا مواطن! الآن، أي طريق إلى مكتب الرعاية الاجتماعية؟ أنا أمزح، أنا أمزح. أنا أعمل، أنا أعمل.
URL:https://rtl.alonethemes.com/event/excitement-from-a-quote-about-charity/
LOCATION:Winchester Mystery House\, San Jose\, 95128\, United States
CATEGORIES:تعليم
ATTACH;FMTTYPE=image/jpeg:https://rtl.alonethemes.com/wp-content/uploads/2024/10/featured-image-3-min.jpg
END:VEVENT
END:VCALENDAR