BEGIN:VCALENDAR
VERSION:2.0
PRODID:-//Alone WPML - ECPv6.15.20//NONSGML v1.0//EN
CALSCALE:GREGORIAN
METHOD:PUBLISH
X-WR-CALNAME:Alone WPML
X-ORIGINAL-URL:https://rtl.alonethemes.com
X-WR-CALDESC:الأحداث في Alone WPML
REFRESH-INTERVAL;VALUE=DURATION:PT1H
X-Robots-Tag:noindex
X-PUBLISHED-TTL:PT1H
BEGIN:VTIMEZONE
TZID:UTC
BEGIN:STANDARD
TZOFFSETFROM:+0000
TZOFFSETTO:+0000
TZNAME:UTC
DTSTART:20250101T000000
END:STANDARD
END:VTIMEZONE
BEGIN:VEVENT
DTSTART;TZID=UTC:20260613T000000
DTEND;TZID=UTC:20260614T000000
DTSTAMP:20260421T145842
CREATED:20200909T040221Z
LAST-MODIFIED:20251006T021658Z
UID:22086-1781308800-1781395200@rtl.alonethemes.com
SUMMARY:الإثارة من اقتباس عن الأعمال الخيرية
DESCRIPTION:عزيزي السيد الرئيس، هناك الكثير من الولايات في الوقت الحاضر. من فضلك، استبعد ثلاث ولايات. ملاحظة: أنا لست مجنونا. لا يمكنك كسب الأصدقاء بالسلطة. أنا مجرد سبالدينج جراي في عالم ريك ديس. آه. لقد تركتني حياتي التي قضيتها في العمل بالطاقة النووية متوهجة باللون الأخضر الصحي… وتركتني عاجزا مثل مفوض الملاكمة في نيفادا. لم يتدخل أي طفل في شؤون الحزب الجمهوري قط وعاش ليحكي عن ذلك.
URL:https://rtl.alonethemes.com/event/excitement-from-a-quote-about-charity-2/
LOCATION:San Diego Zoo\, San Diego\, 92101\, United States
CATEGORIES:تعليم,مصل
ATTACH;FMTTYPE=image/jpeg:https://rtl.alonethemes.com/wp-content/uploads/2024/10/featured-image-1-min.jpg
ORGANIZER;CN="Sammy Sosa":MAILTO:baseball@hotmail.com
END:VEVENT
BEGIN:VEVENT
DTSTART;VALUE=DATE:20260522
DTEND;VALUE=DATE:20260527
DTSTAMP:20260421T145842
CREATED:20200909T040221Z
LAST-MODIFIED:20251006T021353Z
UID:22087-1779408000-1779839999@rtl.alonethemes.com
SUMMARY:مساعدة الجمعيات الخيرية دون مغادرة المنزل
DESCRIPTION:لقد قمت بكل ما يقوله الكتاب المقدس – حتى الأشياء التي تتعارض مع الأشياء الأخرى! إن اختلافاتنا سطحية فقط، لكن تشابهاتنا تصل إلى العظم. والآن، بروح الموسم: ابدأ في التسوق. وفي مقابل كل دولار تشتريه من بضائع كروستي، سأكون لطيفًا مع طفل مريض. لأغراض قانونية، قد يشمل الأطفال المرضى عاهرات مصابات بنزلة برد. وها أنا أستخدم رئتي مثل المصاصة. ما فائدة المال إذا لم يكن قادرًا على بث الرعب في نفوس زملائك البشر؟ لا يعمل هومر جيدًا بدون البيرة.
URL:https://rtl.alonethemes.com/event/help-charities-without-leaving-home-2/
LOCATION:Winchester Mystery House\, San Jose\, 95128\, United States
CATEGORIES:تعليم,مصل
ATTACH;FMTTYPE=image/jpeg:https://rtl.alonethemes.com/wp-content/uploads/2024/10/featured-image-9-min.jpg
ORGANIZER;CN="Barney Stinson":MAILTO:barney@legendary.com
END:VEVENT
BEGIN:VEVENT
DTSTART;TZID=UTC:20260325T120000
DTEND;TZID=UTC:20260404T120000
DTSTAMP:20260421T145842
CREATED:20200909T040226Z
LAST-MODIFIED:20251006T020649Z
UID:22088-1774440000-1775304000@rtl.alonethemes.com
SUMMARY:توفير المياه النقية والطعام الطازج للسوريين
DESCRIPTION:لقد تعقبت جواسيس المتمردين إليها. والآن هي الرابط الوحيد الذي يربطني بالعثور على قاعدتهم السرية. ماذا؟! أنا أهتم. إذن، ما رأيك فيها يا هان؟ إن القوة قوية في هذا الأمر. لقد حاصرتك الآن. ولكن مع إزالة درع الانفجار، لا أستطيع حتى الرؤية! كيف يُفترض بي أن أقاتل؟ فريق ريد فايف يقف بجانبي.
URL:https://rtl.alonethemes.com/event/provide-pure-water-and-fresh-food-for-syrian/
LOCATION:Musee D’Orsay\, Paris\, 75007\, France
CATEGORIES:مساعدة
ATTACH;FMTTYPE=image/jpeg:https://rtl.alonethemes.com/wp-content/uploads/2024/10/featured-image-10-min.jpg
END:VEVENT
BEGIN:VEVENT
DTSTART;TZID=UTC:20260221T000000
DTEND;TZID=UTC:20260306T235900
DTSTAMP:20260421T145842
CREATED:20200909T040219Z
LAST-MODIFIED:20241112T075031Z
UID:22090-1771632000-1772841540@rtl.alonethemes.com
SUMMARY:استخدم علامات التصنيف لدعم المحتوى عبر الإنترنت
DESCRIPTION:انظر يا مولاي! اسكت! هل ستسكت؟! يا له من شخص غريب. لكنك ترتدي زيًا كهذا… أشمئز منك، يا من تدعى آه-ثور كينج، أنت وكل أبناء ك-ن-ن-ن-ن-ن-ن-نيجتس الإنجليز السذج! كانت سيدة البحيرة، وهي ترتدي على ذراعها أنقى أنواع الساميت اللامع، تحمل سيف إكسكاليبور عالياً من صدر الماء، دلالة على أنني أنا، آرثر، سأحمل سيف إكسكاليبور. ولهذا السبب أنا ملككم.
URL:https://rtl.alonethemes.com/event/use-hashtags-to-support-online-2/
LOCATION:The Corn Palace\, Mitchell\, 57301\, United States
CATEGORIES:أطفال
ATTACH;FMTTYPE=image/jpeg:https://rtl.alonethemes.com/wp-content/uploads/2024/10/featured-image-12-min.jpg
ORGANIZER;CN="Mr. Ed":MAILTO:neigh@gmail.com
END:VEVENT
END:VCALENDAR